BEGIN:VCALENDAR
VERSION:2.0
PRODID:icalendar-ruby
CALSCALE:GREGORIAN
METHOD:PUBLISH
BEGIN:VEVENT
DTSTAMP:20260421T051633Z
UID:6-246929@stgeorgesnewhamburg.com
DTSTART:20261101T151500Z
DTEND:20261101T161500Z
CLASS:PUBLIC
CREATED:20260420T203515
DESCRIPTION:
LAST-MODIFIED:20260420T203515
LOCATION:
SUMMARY:Sunday Worship
URL;VALUE=URI:https://www.stgeorgesnewhamburg.com/events/sunday-worship--6/
 2026-11-01
ATTACH;FILENAME=St-Georges-Logo-Artwork-WORD-Medium.jpg;FMTTYPE=image/jpeg:
 https://dq5pwpg1q8ru0.cloudfront.net/2025/01/06/21/07/34/c2aa8d35-9f75-4d8
 4-ae0b-9764d30e16d7/St-Georges-Logo-Artwork-WORD-Medium.jpg
END:VEVENT
END:VCALENDAR
