BEGIN:VCALENDAR
VERSION:2.0
PRODID:icalendar-ruby
CALSCALE:GREGORIAN
METHOD:PUBLISH
BEGIN:VEVENT
DTSTAMP:20260420T223328Z
UID:6-246758@stgeorgesnewhamburg.com
DTSTART:20261004T141500Z
DTEND:20261004T151500Z
CLASS:PUBLIC
CREATED:20260420T180021
DESCRIPTION:
LAST-MODIFIED:20260420T180021
LOCATION:
SUMMARY:Sunday Worship
URL;VALUE=URI:https://www.stgeorgesnewhamburg.com/events/sunday-worship--6/
 2026-10-04
ATTACH;FILENAME=St-Georges-Logo-Artwork-WORD-Medium.jpg;FMTTYPE=image/jpeg:
 https://dq5pwpg1q8ru0.cloudfront.net/2025/01/06/21/07/34/c2aa8d35-9f75-4d8
 4-ae0b-9764d30e16d7/St-Georges-Logo-Artwork-WORD-Medium.jpg
END:VEVENT
END:VCALENDAR
