BEGIN:VCALENDAR
VERSION:2.0
PRODID:icalendar-ruby
CALSCALE:GREGORIAN
METHOD:PUBLISH
BEGIN:VEVENT
DTSTAMP:20260424T151033Z
UID:163-242133@stgeorgesnewhamburg.com
DTSTART:20260426T141500Z
DTEND:20260426T151500Z
CLASS:PUBLIC
CREATED:20260416T092856
DESCRIPTION:Join us for worship\; today will include honouring our patron S
 aint George - click here for more information.
LAST-MODIFIED:20260416T092856
LOCATION:
SUMMARY:Sunday Worship
URL;VALUE=URI:https://www.stgeorgesnewhamburg.com/events/sunday-worship--16
 3/2026-04-26
ATTACH;FILENAME=St Georges Day pic.jpg;FMTTYPE=image/jpeg:https://dq5pwpg1q
 8ru0.cloudfront.net/2026/04/16/13/28/16/896214ae-77c9-4301-a83b-f515ff25ca
 ab/St%20Georges%20Day%20pic.jpg
END:VEVENT
END:VCALENDAR
