BEGIN:VCALENDAR
VERSION:2.0
PRODID:icalendar-ruby
CALSCALE:GREGORIAN
METHOD:PUBLISH
BEGIN:VEVENT
DTSTAMP:20260421T103808Z
UID:149-205685@stgeorgesnewhamburg.com
DTSTART:20260319T233000Z
DTEND:20260320T003000Z
CLASS:PUBLIC
CREATED:20260310T140021
DESCRIPTION:Joint choir rehearsal for the upcoming Good Friday service at T
 rinity.
LAST-MODIFIED:20260310T140021
LOCATION:Trinity Lutheran\, 23 Church St\, New Hamburg
SUMMARY:Joint Choir Rehearsal at Trinity
URL;VALUE=URI:https://www.stgeorgesnewhamburg.com/events/joint-choir-rehear
 sal-at-trinity/2026-03-19
ATTACH;FILENAME=music note lineart.jpg;FMTTYPE=image/jpeg:https://dq5pwpg1q
 8ru0.cloudfront.net/2026/03/10/18/00/21/ae3dbf4b-13bb-4efc-b4f3-47faa92a5d
 fc/music%20note%20lineart.jpg
END:VEVENT
END:VCALENDAR
